Workbook

Sheet Annex cover page
B3: Risk-free yield curves
C6: Notes:
C7: 1. | D7: Three sets of risk-free yield curves are provided covering HKD, USD, RMB, THB, GBP, JPY, TWD, SGD and EUR.
C8: 2. | D8: Both spot rate curves and forward rate curves as of 30 September 2026 are included.
C9: 3. | D9: Under the Smith-Wilson method, the tolerance level at convergence point is updated to 0.00001 (0.1bps) from 0.0001 (1bp), to align with the parameter specified under Schedule 4 to the Insurance (Valuation and Capital) Rules (Cap. 41R) and the Notice Specifying the Applicable Ultimate Forward Rate and Reference Tickers for Specified Currency.
C11: 4. | D11: The shock levels between the stressed curve and the base curve are also provided in the tabs for upward and downward stress scenarios.
C12: 5. | D12: The risk-free yield curves are provided up to year 150.
D14: Tab | E14: Description
D15: 1.1 Risk free BASE | E15: This tab contains the risk-free yield curves to be applied.
D16: 1.2 Risk free UP | E16: This tab contains the risk-free yield curves, with upward stress applied, for the interest rate PCA calculation.
D17: 1.3 Risk free DOWN | E17: This tab contains the risk-free yield curves, with downward stress applied, for the interest rate PCA calculation.

Sheet 1.1 Risk free BASE
D5: 46295 | E5: =D5 -> 46295 | F5: =E5 -> 46295 | G5: =F5 -> 46295 | H5: =G5 -> 46295 | I5: =H5 -> 46295 | J5: =I5 -> 46295 | K5: =J5 -> 46295 | L5: =K5 -> 46295 | ... U5: =T5 -> 46295
D6: Spot | E6: Spot | F6: Spot | G6: Spot | H6: Spot | I6: Spot | J6: Spot | K6: Spot | L6: Spot | M6: Forward | N6: Forward | O6: Forward | P6: Forward | Q6: Forward | R6: Forward | S6: Forward | T6: Forward | U6: Forward
C7: Term | D7: HKD | E7: USD | F7: RMB | G7: THB | H7: GBP | I7: JPY | J7: TWD | K7: SGD | L7: EUR | M7: HKD | N7: USD | O7: RMB | P7: THB | Q7: GBP | R7: JPY | S7: TWD | T7: SGD | U7: EUR
C8: 1 | D8: 0.0386626 | E8: 0.04491 | F8: 0.012197 | G8: 0.0119536 | H8: 0.044205263 | I8: 0.01676 | J8: 0.0181699 | K8: 0.01771 | L8: 0.032727 | M8: =IF($C8=1,D8,(1+D8)^$C8/(1+D7)^($C7)-1) -> 0.0386626 | N8: =IF($C8=1,E8,(1+E8)^$C8/(1+E7)^($C7)-1) -> 0.04491 | O8: =IF($C8=1,F8,(1+F8)^$C8/(1+F7)^($C7)-1) -> 0.012197 | P8: =IF($C8=1,G8,(1+G8)^$C8/(1+G7)^($C7)-1) -> 0.0119536 | Q8: =IF($C8=1,H8,(1+H8)^$C8/(1+H7)^($C7)-1) -> 0.044205263 | R8: =IF($C8=1,I8,(1+I8)^$C8/(1+I7)^($C7)-1) -> 0.01676 | S8: =IF($C8=1,J8,(1+J8)^$C8/(1+J7)^($C7)-1) -> 0.0181699 | T8: =IF($C8=1,K8,(1+K8)^$C8/(1+K7)^($C7)-1) -> 0.01771 | U8: =IF($C8=1,L8,(1+L8)^$C8/(1+L7)^($C7)-1) -> 0.032727
C9: 2 | D9: 0.041699708 | E9: 0.04832 | F9: 0.012668 | G9: 0.0136956 | H9: 0.046656233 | I9: 0.01935 | J9: 0.018159 | K9: 0.02003 | L9: 0.034437477 | M9: =IF($C9=1,D9,(1+D9)^$C9/(1+D8)^($C8)-1) -> 0.044745696 | N9: =IF($C9=1,E9,(1+E9)^$C9/(1+E8)^($C8)-1) -> 0.051741128 | O9: =IF($C9=1,F9,(1+F9)^$C9/(1+F8)^($C8)-1) -> 0.013139219 | P9: =IF($C9=1,G9,(1+G9)^$C9/(1+G8)^($C8)-1) -> 0.015440599 | Q9: =IF($C9=1,H9,(1+H9)^$C9/(1+H8)^($C8)-1) -> 0.049112956 | R9: =IF($C9=1,I9,(1+I9)^$C9/(1+I8)^($C8)-1) -> 0.021946598 | S9: =IF($C9=1,J9,(1+J9)^$C9/(1+J8)^($C8)-1) -> 0.0181481 | T9: =IF($C9=1,K9,(1+K9)^$C9/(1+K8)^($C8)-1) -> 0.022355289 | U9: =IF($C9=1,L9,(1+L9)^$C9/(1+L8)^($C8)-1) -> 0.036150788
C10: 3 | D10: 0.042420459 | E10: 0.04947 | F10: 0.012823 | G10: 0.0152487 | H10: 0.047247003 | I10: 0.0206 | J10: 0.0181833 | K10: 0.02129 | L10: 0.03478154 | M10: =IF($C10=1,D10,(1+D10)^$C10/(1+D9)^($C9)-1) -> 0.043863457 | N10: =IF($C10=1,E10,(1+E10)^$C10/(1+E9)^($C9)-1) -> 0.051773786 | O10: =IF($C10=1,F10,(1+F10)^$C10/(1+F9)^($C9)-1) -> 0.013133071 | P10: =IF($C10=1,G10,(1+G10)^$C10/(1+G9)^($C9)-1) -> 0.018362042 | Q10: =IF($C10=1,H10,(1+H10)^$C10/(1+H9)^($C9)-1) -> 0.048429544 | R10: =IF($C10=1,I10,(1+I10)^$C10/(1+I9)^($C9)-1) -> 0.0231046 | S10: =IF($C10=1,J10,(1+J10)^$C10/(1+J9)^($C9)-1) -> 0.018231902 | T10: =IF($C10=1,K10,(1+K10)^$C10/(1+K9)^($C9)-1) -> 0.023814671 | U10: =IF($C10=1,L10,(1+L10)^$C10/(1+L9)^($C9)-1) -> 0.035470009
C11: 4 | D11: 0.042416894 | E11: 0.05005 | F11: 0.013399 | G11: 0.0166904 | H11: 0.047459893 | I11: 0.02255 | J11: 0.0183572 | K11: 0.02192 | L11: 0.03489701 | M11: =IF($C11=1,D11,(1+D11)^$C11/(1+D10)^($C10)-1) -> 0.042406199 | N11: =IF($C11=1,E11,(1+E11)^$C11/(1+E10)^($C10)-1) -> 0.051791924 | O11: =IF($C11=1,F11,(1+F11)^$C11/(1+F10)^($C10)-1) -> 0.015128966 | P11: =IF($C11=1,G11,(1+G11)^$C11/(1+G10)^($C10)-1) -> 0.021027795 | Q11: =IF($C11=1,H11,(1+H11)^$C11/(1+H10)^($C10)-1) -> 0.048098822 | R11: =IF($C11=1,I11,(1+I11)^$C11/(1+I10)^($C10)-1) -> 0.028422383 | S11: =IF($C11=1,J11,(1+J11)^$C11/(1+J10)^($C10)-1) -> 0.018879078 | T11: =IF($C11=1,K11,(1+K11)^$C11/(1+K10)^($C10)-1) -> 0.023812333 | U11: =IF($C11=1,L11,(1+L11)^$C11/(1+L10)^($C10)-1) -> 0.035243497
C12: 5 | D12: 0.042500838 | E12: 0.05034 | F12: 0.014123 | G12: 0.0181039 | H12: 0.04767414 | I12: 0.02391 | J12: 0.0186366 | K12: 0.02244 | L12: 0.034990819 | M12: =IF($C12=1,D12,(1+D12)^$C12/(1+D11)^($C11)-1) -> 0.042836682 | N12: =IF($C12=1,E12,(1+E12)^$C12/(1+E11)^($C11)-1) -> 0.051500801 | O12: =IF($C12=1,F12,(1+F12)^$C12/(1+F11)^($C11)-1) -> 0.017024176 | P12: =IF($C12=1,G12,(1+G12)^$C12/(1+G11)^($C11)-1) -> 0.023777579 | Q12: =IF($C12=1,H12,(1+H12)^$C12/(1+H11)^($C11)-1) -> 0.048531565 | R12: =IF($C12=1,I12,(1+I12)^$C12/(1+I11)^($C11)-1) -> 0.029368112 | S12: =IF($C12=1,J12,(1+J12)^$C12/(1+J11)^($C11)-1) -> 0.019754967 | T12: =IF($C12=1,K12,(1+K12)^$C12/(1+K11)^($C11)-1) -> 0.024522647 | U12: =IF($C12=1,L12,(1+L12)^$C12/(1+L11)^($C11)-1) -> 0.03536614
C13: 6 | D13: 0.042623815 | E13: 0.05095 | F13: 0.01466 | G13: 0.0194938 | H13: 0.047987949 | I13: 0.02492 | J13: 0.0188419 | K13: 0.02316 | L13: 0.035128849 | M13: =IF($C13=1,D13,(1+D13)^$C13/(1+D12)^($C12)-1) -> 0.04323892 | N13: =IF($C13=1,E13,(1+E13)^$C13/(1+E12)^($C12)-1) -> 0.054005318 | O13: =IF($C13=1,F13,(1+F13)^$C13/(1+F12)^($C12)-1) -> 0.017349268 | P13: =IF($C13=1,G13,(1+G13)^$C13/(1+G12)^($C12)-1) -> 0.026471814 | Q13: =IF($C13=1,H13,(1+H13)^$C13/(1+H12)^($C12)-1) -> 0.049558404 | R13: =IF($C13=1,I13,(1+I13)^$C13/(1+I12)^($C12)-1) -> 0.029984964 | S13: =IF($C13=1,J13,(1+J13)^$C13/(1+J12)^($C12)-1) -> 0.019869021 | T13: =IF($C13=1,K13,(1+K13)^$C13/(1+K12)^($C12)-1) -> 0.026767612 | U13: =IF($C13=1,L13,(1+L13)^$C13/(1+L12)^($C12)-1) -> 0.035819274
C14: 7 | D14: 0.042726693 | E14: 0.05142 | F14: 0.015167 | G14: 0.0208772 | H14: 0.048399016 | I14: 0.02626 | J14: 0.0189641 | K14: 0.02366 | L14: 0.035298246 | M14: =IF($C14=1,D14,(1+D14)^$C14/(1+D13)^($C13)-1) -> 0.043344173 | N14: =IF($C14=1,E14,(1+E14)^$C14/(1+E13)^($C13)-1) -> 0.054244417 | O14: =IF($C14=1,F14,(1+F14)^$C14/(1+F13)^($C13)-1) -> 0.018214324 | P14: =IF($C14=1,G14,(1+G14)^$C14/(1+G13)^($C13)-1) -> 0.029217111 | Q14: =IF($C14=1,H14,(1+H14)^$C14/(1+H13)^($C13)-1) -> 0.050868806 | R14: =IF($C14=1,I14,(1+I14)^$C14/(1+I13)^($C13)-1) -> 0.034336871 | S14: =IF($C14=1,J14,(1+J14)^$C14/(1+J13)^($C13)-1) -> 0.019697608 | T14: =IF($C14=1,K14,(1+K14)^$C14/(1+K13)^($C13)-1) -> 0.026665135 | U14: =IF($C14=1,L14,(1+L14)^$C14/(1+L13)^($C13)-1) -> 0.036315214
C15: 8 | D15: 0.04281554 | E15: 0.05197 | F15: 0.015758 | G15: 0.0222259 | H15: 0.04889265 | I15: 0.02777 | J15: 0.0189799 | K15: 0.02405 | L15: 0.035486595 | M15: =IF($C15=1,D15,(1+D15)^$C15/(1+D14)^($C14)-1) -> 0.043437684 | N15: =IF($C15=1,E15,(1+E15)^$C15/(1+E14)^($C14)-1) -> 0.055828064 | O15: =IF($C15=1,F15,(1+F15)^$C15/(1+F14)^($C14)-1) -> 0.019904645 | P15: =IF($C15=1,G15,(1+G15)^$C15/(1+G14)^($C14)-1) -> 0.031716822 | Q15: =IF($C15=1,H15,(1+H15)^$C15/(1+H14)^($C14)-1) -> 0.052354602 | R15: =IF($C15=1,I15,(1+I15)^$C15/(1+I14)^($C14)-1) -> 0.038402393 | S15: =IF($C15=1,J15,(1+J15)^$C15/(1+J14)^($C14)-1) -> 0.019090507 | T15: =IF($C15=1,K15,(1+K15)^$C15/(1+K14)^($C14)-1) -> 0.026784164 | U15: =IF($C15=1,L15,(1+L15)^$C15/(1+L14)^($C14)-1) -> 0.036805999
C16: 9 | D16: 0.042989423 | E16: 0.0523 | F16: 0.016411 | G16: 0.0235218 | H16: 0.049404941 | I16: 0.02929 | J16: 0.0190962 | K16: 0.02434 | L16: 0.035712356 | M16: =IF($C16=1,D16,(1+D16)^$C16/(1+D15)^($C15)-1) -> 0.044381527 | N16: =IF($C16=1,E16,(1+E16)^$C16/(1+E15)^($C15)-1) -> 0.054943729 | O16: =IF($C16=1,F16,(1+F16)^$C16/(1+F15)^($C15)-1) -> 0.021650135 | P16: =IF($C16=1,G16,(1+G16)^$C16/(1+G15)^($C15)-1) -> 0.033948318 | Q16: =IF($C16=1,H16,(1+H16)^$C16/(1+H15)^($C15)-1) -> 0.053512287 | R16: =IF($C16=1,I16,(1+I16)^$C16/(1+I15)^($C15)-1) -> 0.041531207 | S16: =IF($C16=1,J16,(1+J16)^$C16/(1+J15)^($C15)-1) -> 0.020027078 | T16: =IF($C16=1,K16,(1+K16)^$C16/(1+K15)^($C15)-1) -> 0.026662958 | U16: =IF($C16=1,L16,(1+L16)^$C16/(1+L15)^($C15)-1) -> 0.037520217
C17: 10 | D17: 0.043330294 | E17: 0.05258 | F17: 0.017064 | G17: 0.0247464 | H17: 0.049947662 | I17: 0.03091 | J17: 0.0192781 | K17: 0.02458 | L17: 0.035983769 | M17: =IF($C17=1,D17,(1+D17)^$C17/(1+D16)^($C16)-1) -> 0.046403154 | N17: =IF($C17=1,E17,(1+E17)^$C17/(1+E16)^($C16)-1) -> 0.055103355 | O17: =IF($C17=1,F17,(1+F17)^$C17/(1+F16)^($C16)-1) -> 0.022959911 | P17: =IF($C17=1,G17,(1+G17)^$C17/(1+G16)^($C16)-1) -> 0.035833944 | Q17: =IF($C17=1,H17,(1+H17)^$C17/(1+H16)^($C16)-1) -> 0.054844803 | R17: =IF($C17=1,I17,(1+I17)^$C17/(1+I16)^($C16)-1) -> 0.04560522 | S17: =IF($C17=1,J17,(1+J17)^$C17/(1+J16)^($C16)-1) -> 0.020916662 | T17: =IF($C17=1,K17,(1+K17)^$C17/(1+K16)^($C16)-1) -> 0.026742532 | U17: =IF($C17=1,L17,(1+L17)^$C17/(1+L16)^($C16)-1) -> 0.038429684
C18: 11 | D18: 0.043834041 | E18: 0.053002468 | F18: 0.01787449 | G18: 0.025922126 | H18: 0.050457853 | I18: 0.032164839 | J18: 0.019697563 | K18: 0.024782334 | L18: 0.036213748 | M18: =IF($C18=1,D18,(1+D18)^$C18/(1+D17)^($C17)-1) -> 0.048884903 | N18: =IF($C18=1,E18,(1+E18)^$C18/(1+E17)^($C17)-1) -> 0.057236489 | O18: =IF($C18=1,F18,(1+F18)^$C18/(1+F17)^($C17)-1) -> 0.026015002 | P18: =IF($C18=1,G18,(1+G18)^$C18/(1+G17)^($C17)-1) -> 0.037753834 | Q18: =IF($C18=1,H18,(1+H18)^$C18/(1+H17)^($C17)-1) -> 0.055573419 | R18: =IF($C18=1,I18,(1+I18)^$C18/(1+I17)^($C17)-1) -> 0.044797548 | S18: =IF($C18=1,J18,(1+J18)^$C18/(1+J17)^($C17)-1) -> 0.023901703 | T18: =IF($C18=1,K18,(1+K18)^$C18/(1+K17)^($C17)-1) -> 0.026807868 | U18: =IF($C18=1,L18,(1+L18)^$C18/(1+L17)^($C17)-1) -> 0.038516346
C19: 12 | D19: 0.04428137 | E19: 0.053536518 | F19: 0.01880386 | G19: 0.027044546 | H19: 0.050931507 | I19: 0.033116693 | J19: 0.020303417 | K19: 0.024932283 | L19: 0.036399572 | M19: =IF($C19=1,D19,(1+D19)^$C19/(1+D18)^($C18)-1) -> 0.049214666 | N19: =IF($C19=1,E19,(1+E19)^$C19/(1+E18)^($C18)-1) -> 0.059428973 | O19: =IF($C19=1,F19,(1+F19)^$C19/(1+F18)^($C18)-1) -> 0.029083107 | P19: =IF($C19=1,G19,(1+G19)^$C19/(1+G18)^($C18)-1) -> 0.039472508 | Q19: =IF($C19=1,H19,(1+H19)^$C19/(1+H18)^($C18)-1) -> 0.056155821 | R19: =IF($C19=1,I19,(1+I19)^$C19/(1+I18)^($C18)-1) -> 0.043645199 | S19: =IF($C19=1,J19,(1+J19)^$C19/(1+J18)^($C18)-1) -> 0.026991617 | T19: =IF($C19=1,K19,(1+K19)^$C19/(1+K18)^($C18)-1) -> 0.026583172 | U19: =IF($C19=1,L19,(1+L19)^$C19/(1+L18)^($C18)-1) -> 0.038445835
... C157: 150 | D157: 0.038925484 | E157: 0.0418536 | F157: 0.043136883 | G157: 0.047697415 | H157: 0.040952159 | I157: 0.039433935 | J157: 0.041420326 | K157: 0.035711023 | L157: 0.037598453 | M157: =IF($C157=1,D157,(1+D157)^$C157/(1+D156)^($C156)-1) -> 0.038 | N157: =IF($C157=1,E157,(1+E157)^$C157/(1+E156)^($C156)-1) -> 0.038 | O157: =IF($C157=1,F157,(1+F157)^$C157/(1+F156)^($C156)-1) -> 0.046 | P157: =IF($C157=1,G157,(1+G157)^$C157/(1+G156)^($C156)-1) -> 0.05 | Q157: =IF($C157=1,H157,(1+H157)^$C157/(1+H156)^($C156)-1) -> 0.038 | R157: =IF($C157=1,I157,(1+I157)^$C157/(1+I156)^($C156)-1) -> 0.038 | S157: =IF($C157=1,J157,(1+J157)^$C157/(1+J156)^($C156)-1) -> 0.044 | T157: =IF($C157=1,K157,(1+K157)^$C157/(1+K156)^($C156)-1) -> 0.038 | U157: =IF($C157=1,L157,(1+L157)^$C157/(1+L156)^($C156)-1) -> 0.038

Sheet 1.2 Risk free UP
W4: Shock Levels
D5: ='1.1 Risk free BASE'!D5 -> 46295 | E5: =D5 -> 46295 | F5: =E5 -> 46295 | G5: =F5 -> 46295 | H5: =G5 -> 46295 | I5: =H5 -> 46295 | J5: =I5 -> 46295 | K5: =J5 -> 46295 | L5: =K5 -> 46295 | ... U5: =T5 -> 46295 | X5: =D5 -> 46295 | Y5: =E5 -> 46295 | Z5: =F5 -> 46295 | AA5: =G5 -> 46295 | AB5: =H5 -> 46295 | AC5: =I5 -> 46295 | AD5: =J5 -> 46295 | AE5: =K5 -> 46295 | ... AO5: =U5 -> 46295
D6: Spot | E6: Spot | F6: Spot | G6: Spot | H6: Spot | I6: Spot | J6: Spot | K6: Spot | L6: Spot | M6: Forward | N6: Forward | O6: Forward | P6: Forward | Q6: Forward | R6: Forward | S6: Forward | T6: Forward | U6: Forward | X6: Spot | Y6: Spot | Z6: Spot | AA6: Spot | AB6: Spot | AC6: Spot | AD6: Spot | AE6: Spot | AF6: Spot | AG6: Forward | AH6: Forward | AI6: Forward | AJ6: Forward | AK6: Forward | AL6: Forward | AM6: Forward | AN6: Forward | AO6: Forward
C7: Term | D7: HKD | E7: USD | F7: RMB | G7: THB | H7: GBP | I7: JPY | J7: TWD | K7: SGD | L7: EUR | M7: HKD | N7: USD | O7: RMB | P7: THB | Q7: GBP | R7: JPY | S7: TWD | T7: SGD | U7: EUR | W7: Term | X7: HKD | Y7: USD | Z7: RMB | AA7: THB | AB7: GBP | AC7: JPY | AD7: TWD | AE7: SGD | AF7: EUR | AG7: HKD | AH7: USD | AI7: RMB | AJ7: THB | AK7: GBP | AL7: JPY | AM7: TWD | AN7: SGD | AO7: EUR
C8: 1 | D8: 0.0586626 | E8: 0.06491 | F8: 0.032197 | G8: 0.0319536 | H8: 0.064205263 | I8: 0.03676 | J8: 0.0381699 | K8: 0.03771 | L8: 0.052727 | M8: =IF($C8=1,D8,(1+D8)^$C8/(1+D7)^($C7)-1) -> 0.0586626 | N8: =IF($C8=1,E8,(1+E8)^$C8/(1+E7)^($C7)-1) -> 0.06491 | O8: =IF($C8=1,F8,(1+F8)^$C8/(1+F7)^($C7)-1) -> 0.032197 | P8: =IF($C8=1,G8,(1+G8)^$C8/(1+G7)^($C7)-1) -> 0.0319536 | Q8: =IF($C8=1,H8,(1+H8)^$C8/(1+H7)^($C7)-1) -> 0.064205263 | R8: =IF($C8=1,I8,(1+I8)^$C8/(1+I7)^($C7)-1) -> 0.03676 | S8: =IF($C8=1,J8,(1+J8)^$C8/(1+J7)^($C7)-1) -> 0.0381699 | T8: =IF($C8=1,K8,(1+K8)^$C8/(1+K7)^($C7)-1) -> 0.03771 | U8: =IF($C8=1,L8,(1+L8)^$C8/(1+L7)^($C7)-1) -> 0.052727 | W8: 1 | X8: =D8-'1.1 Risk free BASE'!D8 -> 0.02 | Y8: =E8-'1.1 Risk free BASE'!E8 -> 0.02 | Z8: =F8-'1.1 Risk free BASE'!F8 -> 0.02 | AA8: =G8-'1.1 Risk free BASE'!G8 -> 0.02 | AB8: =H8-'1.1 Risk free BASE'!H8 -> 0.02 | AC8: =I8-'1.1 Risk free BASE'!I8 -> 0.02 | AD8: =J8-'1.1 Risk free BASE'!J8 -> 0.02 | AE8: =K8-'1.1 Risk free BASE'!K8 -> 0.02 | ... AO8: =U8-'1.1 Risk free BASE'!U8 -> 0.02
C9: 2 | D9: 0.061699708 | E9: 0.06832 | F9: 0.032668 | G9: 0.0336956 | H9: 0.066656233 | I9: 0.03935 | J9: 0.038159 | K9: 0.04003 | L9: 0.054437477 | M9: =IF($C9=1,D9,(1+D9)^$C9/(1+D8)^($C8)-1) -> 0.064745528 | N9: =IF($C9=1,E9,(1+E9)^$C9/(1+E8)^($C8)-1) -> 0.071740919 | O9: =IF($C9=1,F9,(1+F9)^$C9/(1+F8)^($C8)-1) -> 0.033139215 | P9: =IF($C9=1,G9,(1+G9)^$C9/(1+G8)^($C8)-1) -> 0.035440541 | Q9: =IF($C9=1,H9,(1+H9)^$C9/(1+H8)^($C8)-1) -> 0.069112848 | R9: =IF($C9=1,I9,(1+I9)^$C9/(1+I8)^($C8)-1) -> 0.04194647 | S9: =IF($C9=1,J9,(1+J9)^$C9/(1+J8)^($C8)-1) -> 0.0381481 | T9: =IF($C9=1,K9,(1+K9)^$C9/(1+K8)^($C8)-1) -> 0.042355187 | U9: =IF($C9=1,L9,(1+L9)^$C9/(1+L8)^($C8)-1) -> 0.056150734 | W9: 2 | X9: =D9-'1.1 Risk free BASE'!D9 -> 0.02 | Y9: =E9-'1.1 Risk free BASE'!E9 -> 0.02 | Z9: =F9-'1.1 Risk free BASE'!F9 -> 0.02 | AA9: =G9-'1.1 Risk free BASE'!G9 -> 0.02 | AB9: =H9-'1.1 Risk free BASE'!H9 -> 0.02 | AC9: =I9-'1.1 Risk free BASE'!I9 -> 0.02 | AD9: =J9-'1.1 Risk free BASE'!J9 -> 0.02 | AE9: =K9-'1.1 Risk free BASE'!K9 -> 0.02 | ... AO9: =U9-'1.1 Risk free BASE'!U9 -> 0.019999946
C10: 3 | D10: 0.062420459 | E10: 0.06947 | F10: 0.032823 | G10: 0.0352487 | H10: 0.067247003 | I10: 0.0406 | J10: 0.0381833 | K10: 0.04129 | L10: 0.05478154 | M10: =IF($C10=1,D10,(1+D10)^$C10/(1+D9)^($C9)-1) -> 0.063863429 | N10: =IF($C10=1,E10,(1+E10)^$C10/(1+E9)^($C9)-1) -> 0.071773715 | O10: =IF($C10=1,F10,(1+F10)^$C10/(1+F9)^($C9)-1) -> 0.03313307 | P10: =IF($C10=1,G10,(1+G10)^$C10/(1+G9)^($C9)-1) -> 0.038361904 | Q10: =IF($C10=1,H10,(1+H10)^$C10/(1+H9)^($C9)-1) -> 0.068429525 | R10: =IF($C10=1,I10,(1+I10)^$C10/(1+I9)^($C9)-1) -> 0.043104512 | S10: =IF($C10=1,J10,(1+J10)^$C10/(1+J9)^($C9)-1) -> 0.038231902 | T10: =IF($C10=1,K10,(1+K10)^$C10/(1+K9)^($C9)-1) -> 0.043814581 | U10: =IF($C10=1,L10,(1+L10)^$C10/(1+L9)^($C9)-1) -> 0.055470003 | W10: 3 | X10: =D10-'1.1 Risk free BASE'!D10 -> 0.02 | Y10: =E10-'1.1 Risk free BASE'!E10 -> 0.02 | Z10: =F10-'1.1 Risk free BASE'!F10 -> 0.02 | AA10: =G10-'1.1 Risk free BASE'!G10 -> 0.02 | AB10: =H10-'1.1 Risk free BASE'!H10 -> 0.02 | AC10: =I10-'1.1 Risk free BASE'!I10 -> 0.02 | AD10: =J10-'1.1 Risk free BASE'!J10 -> 0.02 | AE10: =K10-'1.1 Risk free BASE'!K10 -> 0.02 | ... AO10: =U10-'1.1 Risk free BASE'!U10 -> 0.019999993
C11: 4 | D11: 0.062416894 | E11: 0.07005 | F11: 0.033399 | G11: 0.0366904 | H11: 0.067459893 | I11: 0.04255 | J11: 0.0383572 | K11: 0.04192 | L11: 0.05489701 | M11: =IF($C11=1,D11,(1+D11)^$C11/(1+D10)^($C10)-1) -> 0.062406199 | N11: =IF($C11=1,E11,(1+E11)^$C11/(1+E10)^($C10)-1) -> 0.071791888 | O11: =IF($C11=1,F11,(1+F11)^$C11/(1+F10)^($C10)-1) -> 0.035128928 | P11: =IF($C11=1,G11,(1+G11)^$C11/(1+G10)^($C10)-1) -> 0.041027558 | Q11: =IF($C11=1,H11,(1+H11)^$C11/(1+H10)^($C10)-1) -> 0.068098817 | R11: =IF($C11=1,I11,(1+I11)^$C11/(1+I10)^($C10)-1) -> 0.048421952 | S11: =IF($C11=1,J11,(1+J11)^$C11/(1+J10)^($C10)-1) -> 0.038879075 | T11: =IF($C11=1,K11,(1+K11)^$C11/(1+K10)^($C10)-1) -> 0.043812288 | U11: =IF($C11=1,L11,(1+L11)^$C11/(1+L10)^($C10)-1) -> 0.055243496 | W11: 4 | X11: =D11-'1.1 Risk free BASE'!D11 -> 0.02 | Y11: =E11-'1.1 Risk free BASE'!E11 -> 0.02 | Z11: =F11-'1.1 Risk free BASE'!F11 -> 0.02 | AA11: =G11-'1.1 Risk free BASE'!G11 -> 0.02 | AB11: =H11-'1.1 Risk free BASE'!H11 -> 0.02 | AC11: =I11-'1.1 Risk free BASE'!I11 -> 0.02 | AD11: =J11-'1.1 Risk free BASE'!J11 -> 0.02 | AE11: =K11-'1.1 Risk free BASE'!K11 -> 0.02 | ... AO11: =U11-'1.1 Risk free BASE'!U11 -> 0.019999999
C12: 5 | D12: 0.062500838 | E12: 0.07034 | F12: 0.034123 | G12: 0.0381039 | H12: 0.06767414 | I12: 0.04391 | J12: 0.0386366 | K12: 0.04244 | L12: 0.054990819 | M12: =IF($C12=1,D12,(1+D12)^$C12/(1+D11)^($C11)-1) -> 0.062836681 | N12: =IF($C12=1,E12,(1+E12)^$C12/(1+E11)^($C11)-1) -> 0.071500786 | O12: =IF($C12=1,F12,(1+F12)^$C12/(1+F11)^($C11)-1) -> 0.037024076 | P12: =IF($C12=1,G12,(1+G12)^$C12/(1+G11)^($C11)-1) -> 0.043777199 | Q12: =IF($C12=1,H12,(1+H12)^$C12/(1+H11)^($C11)-1) -> 0.068531556 | R12: =IF($C12=1,I12,(1+I12)^$C12/(1+I11)^($C11)-1) -> 0.049367764 | S12: =IF($C12=1,J12,(1+J12)^$C12/(1+J11)^($C11)-1) -> 0.039754952 | T12: =IF($C12=1,K12,(1+K12)^$C12/(1+K11)^($C11)-1) -> 0.044522597 | U12: =IF($C12=1,L12,(1+L12)^$C12/(1+L11)^($C11)-1) -> 0.055366138 | W12: 5 | X12: =D12-'1.1 Risk free BASE'!D12 -> 0.02 | Y12: =E12-'1.1 Risk free BASE'!E12 -> 0.02 | Z12: =F12-'1.1 Risk free BASE'!F12 -> 0.02 | AA12: =G12-'1.1 Risk free BASE'!G12 -> 0.02 | AB12: =H12-'1.1 Risk free BASE'!H12 -> 0.02 | AC12: =I12-'1.1 Risk free BASE'!I12 -> 0.02 | AD12: =J12-'1.1 Risk free BASE'!J12 -> 0.02 | AE12: =K12-'1.1 Risk free BASE'!K12 -> 0.02 | ... AO12: =U12-'1.1 Risk free BASE'!U12 -> 0.019999998
C13: 6 | D13: 0.062623815 | E13: 0.07095 | F13: 0.03466 | G13: 0.0394938 | H13: 0.067987949 | I13: 0.04492 | J13: 0.0388419 | K13: 0.04316 | L13: 0.055128849 | M13: =IF($C13=1,D13,(1+D13)^$C13/(1+D12)^($C12)-1) -> 0.063238916 | N13: =IF($C13=1,E13,(1+E13)^$C13/(1+E12)^($C12)-1) -> 0.074005219 | O13: =IF($C13=1,F13,(1+F13)^$C13/(1+F12)^($C12)-1) -> 0.037349186 | P13: =IF($C13=1,G13,(1+G13)^$C13/(1+G12)^($C12)-1) -> 0.046471264 | Q13: =IF($C13=1,H13,(1+H13)^$C13/(1+H12)^($C12)-1) -> 0.069558377 | R13: =IF($C13=1,I13,(1+I13)^$C13/(1+I12)^($C12)-1) -> 0.049984677 | S13: =IF($C13=1,J13,(1+J13)^$C13/(1+J12)^($C12)-1) -> 0.039869009 | T13: =IF($C13=1,K13,(1+K13)^$C13/(1+K12)^($C12)-1) -> 0.046767466 | U13: =IF($C13=1,L13,(1+L13)^$C13/(1+L12)^($C12)-1) -> 0.055819268 | W13: 6 | X13: =D13-'1.1 Risk free BASE'!D13 -> 0.02 | Y13: =E13-'1.1 Risk free BASE'!E13 -> 0.02 | Z13: =F13-'1.1 Risk free BASE'!F13 -> 0.02 | AA13: =G13-'1.1 Risk free BASE'!G13 -> 0.02 | AB13: =H13-'1.1 Risk free BASE'!H13 -> 0.02 | AC13: =I13-'1.1 Risk free BASE'!I13 -> 0.02 | AD13: =J13-'1.1 Risk free BASE'!J13 -> 0.02 | AE13: =K13-'1.1 Risk free BASE'!K13 -> 0.02 | ... AO13: =U13-'1.1 Risk free BASE'!U13 -> 0.019999995
C14: 7 | D14: 0.062726693 | E14: 0.07142 | F14: 0.035167 | G14: 0.0408772 | H14: 0.068399016 | I14: 0.04626 | J14: 0.0389641 | K14: 0.04366 | L14: 0.055298246 | M14: =IF($C14=1,D14,(1+D14)^$C14/(1+D13)^($C13)-1) -> 0.063344169 | N14: =IF($C14=1,E14,(1+E14)^$C14/(1+E13)^($C13)-1) -> 0.074244335 | O14: =IF($C14=1,F14,(1+F14)^$C14/(1+F13)^($C13)-1) -> 0.038214221 | P14: =IF($C14=1,G14,(1+G14)^$C14/(1+G13)^($C13)-1) -> 0.049216349 | Q14: =IF($C14=1,H14,(1+H14)^$C14/(1+H13)^($C13)-1) -> 0.070868742 | R14: =IF($C14=1,I14,(1+I14)^$C14/(1+I13)^($C13)-1) -> 0.054336164 | S14: =IF($C14=1,J14,(1+J14)^$C14/(1+J13)^($C13)-1) -> 0.039697602 | T14: =IF($C14=1,K14,(1+K14)^$C14/(1+K13)^($C13)-1) -> 0.046665037 | U14: =IF($C14=1,L14,(1+L14)^$C14/(1+L13)^($C13)-1) -> 0.056315203 | W14: 7 | X14: =D14-'1.1 Risk free BASE'!D14 -> 0.02 | Y14: =E14-'1.1 Risk free BASE'!E14 -> 0.02 | Z14: =F14-'1.1 Risk free BASE'!F14 -> 0.02 | AA14: =G14-'1.1 Risk free BASE'!G14 -> 0.02 | AB14: =H14-'1.1 Risk free BASE'!H14 -> 0.02 | AC14: =I14-'1.1 Risk free BASE'!I14 -> 0.02 | AD14: =J14-'1.1 Risk free BASE'!J14 -> 0.02 | AE14: =K14-'1.1 Risk free BASE'!K14 -> 0.02 | ... AO14: =U14-'1.1 Risk free BASE'!U14 -> 0.019999989
C15: 8 | D15: 0.06281554 | E15: 0.07197 | F15: 0.035471896 | G15: 0.0422259 | H15: 0.06889265 | I15: 0.04777 | J15: 0.0389799 | K15: 0.04405 | L15: 0.055486595 | M15: =IF($C15=1,D15,(1+D15)^$C15/(1+D14)^($C14)-1) -> 0.06343768 | N15: =IF($C15=1,E15,(1+E15)^$C15/(1+E14)^($C14)-1) -> 0.075827914 | O15: =IF($C15=1,F15,(1+F15)^$C15/(1+F14)^($C14)-1) -> 0.037608684 | P15: =IF($C15=1,G15,(1+G15)^$C15/(1+G14)^($C14)-1) -> 0.051715859 | Q15: =IF($C15=1,H15,(1+H15)^$C15/(1+H14)^($C14)-1) -> 0.07235448 | R15: =IF($C15=1,I15,(1+I15)^$C15/(1+I14)^($C14)-1) -> 0.058401196 | S15: =IF($C15=1,J15,(1+J15)^$C15/(1+J14)^($C14)-1) -> 0.039090507 | T15: =IF($C15=1,K15,(1+K15)^$C15/(1+K14)^($C14)-1) -> 0.046784084 | U15: =IF($C15=1,L15,(1+L15)^$C15/(1+L14)^($C14)-1) -> 0.05680598 | W15: 8 | X15: =D15-'1.1 Risk free BASE'!D15 -> 0.02 | Y15: =E15-'1.1 Risk free BASE'!E15 -> 0.02 | Z15: =F15-'1.1 Risk free BASE'!F15 -> 0.019713896 | AA15: =G15-'1.1 Risk free BASE'!G15 -> 0.02 | AB15: =H15-'1.1 Risk free BASE'!H15 -> 0.02 | AC15: =I15-'1.1 Risk free BASE'!I15 -> 0.02 | AD15: =J15-'1.1 Risk free BASE'!J15 -> 0.02 | AE15: =K15-'1.1 Risk free BASE'!K15 -> 0.02 | ... AO15: =U15-'1.1 Risk free BASE'!U15 -> 0.019999982
C16: 9 | D16: 0.062989423 | E16: 0.0723 | F16: 0.035928964 | G16: 0.0435218 | H16: 0.069404941 | I16: 0.04929 | J16: 0.0390962 | K16: 0.04434 | L16: 0.055712356 | M16: =IF($C16=1,D16,(1+D16)^$C16/(1+D15)^($C15)-1) -> 0.064381508 | N16: =IF($C16=1,E16,(1+E16)^$C16/(1+E15)^($C15)-1) -> 0.07494366 | O16: =IF($C16=1,F16,(1+F16)^$C16/(1+F15)^($C15)-1) -> 0.039592775 | P16: =IF($C16=1,G16,(1+G16)^$C16/(1+G15)^($C15)-1) -> 0.053947176 | Q16: =IF($C16=1,H16,(1+H16)^$C16/(1+H15)^($C15)-1) -> 0.073512118 | R16: =IF($C16=1,I16,(1+I16)^$C16/(1+I15)^($C15)-1) -> 0.061529652 | S16: =IF($C16=1,J16,(1+J16)^$C16/(1+J15)^($C15)-1) -> 0.040027069 | T16: =IF($C16=1,K16,(1+K16)^$C16/(1+K15)^($C15)-1) -> 0.046662902 | U16: =IF($C16=1,L16,(1+L16)^$C16/(1+L15)^($C15)-1) -> 0.057520183 | W16: 9 | X16: =D16-'1.1 Risk free BASE'!D16 -> 0.02 | Y16: =E16-'1.1 Risk free BASE'!E16 -> 0.02 | Z16: =F16-'1.1 Risk free BASE'!F16 -> 0.019517964 | AA16: =G16-'1.1 Risk free BASE'!G16 -> 0.02 | AB16: =H16-'1.1 Risk free BASE'!H16 -> 0.02 | AC16: =I16-'1.1 Risk free BASE'!I16 -> 0.02 | AD16: =J16-'1.1 Risk free BASE'!J16 -> 0.02 | AE16: =K16-'1.1 Risk free BASE'!K16 -> 0.02 | ... AO16: =U16-'1.1 Risk free BASE'!U16 -> 0.019999966
C17: 10 | D17: 0.063330294 | E17: 0.07258 | F17: 0.036543922 | G17: 0.0447464 | H17: 0.069947662 | I17: 0.05091 | J17: 0.0392781 | K17: 0.04458 | L17: 0.055983769 | M17: =IF($C17=1,D17,(1+D17)^$C17/(1+D16)^($C16)-1) -> 0.066403059 | N17: =IF($C17=1,E17,(1+E17)^$C17/(1+E16)^($C16)-1) -> 0.075103292 | O17: =IF($C17=1,F17,(1+F17)^$C17/(1+F16)^($C16)-1) -> 0.042095003 | P17: =IF($C17=1,G17,(1+G17)^$C17/(1+G16)^($C16)-1) -> 0.055832672 | Q17: =IF($C17=1,H17,(1+H17)^$C17/(1+H16)^($C16)-1) -> 0.074844567 | R17: =IF($C17=1,I17,(1+I17)^$C17/(1+I16)^($C16)-1) -> 0.065603015 | S17: =IF($C17=1,J17,(1+J17)^$C17/(1+J16)^($C16)-1) -> 0.040916634 | T17: =IF($C17=1,K17,(1+K17)^$C17/(1+K16)^($C16)-1) -> 0.046742483 | U17: =IF($C17=1,L17,(1+L17)^$C17/(1+L16)^($C16)-1) -> 0.058429624 | W17: 10 | X17: =D17-'1.1 Risk free BASE'!D17 -> 0.02 | Y17: =E17-'1.1 Risk free BASE'!E17 -> 0.02 | Z17: =F17-'1.1 Risk free BASE'!F17 -> 0.019479922 | AA17: =G17-'1.1 Risk free BASE'!G17 -> 0.02 | AB17: =H17-'1.1 Risk free BASE'!H17 -> 0.02 | AC17: =I17-'1.1 Risk free BASE'!I17 -> 0.02 | AD17: =J17-'1.1 Risk free BASE'!J17 -> 0.02 | AE17: =K17-'1.1 Risk free BASE'!K17 -> 0.02 | ... AO17: =U17-'1.1 Risk free BASE'!U17 -> 0.019999939
C18: 11 | D18: 0.063834041 | E18: 0.073002468 | F18: 0.037739859 | G18: 0.045922126 | H18: 0.070457853 | I18: 0.052164839 | J18: 0.039697563 | K18: 0.044782334 | L18: 0.056213748 | M18: =IF($C18=1,D18,(1+D18)^$C18/(1+D17)^($C17)-1) -> 0.06888465 | N18: =IF($C18=1,E18,(1+E18)^$C18/(1+E17)^($C17)-1) -> 0.077236315 | O18: =IF($C18=1,F18,(1+F18)^$C18/(1+F17)^($C17)-1) -> 0.049775379 | P18: =IF($C18=1,G18,(1+G18)^$C18/(1+G17)^($C17)-1) -> 0.057752404 | Q18: =IF($C18=1,H18,(1+H18)^$C18/(1+H17)^($C17)-1) -> 0.075573163 | R18: =IF($C18=1,I18,(1+I18)^$C18/(1+I17)^($C17)-1) -> 0.064795938 | S18: =IF($C18=1,J18,(1+J18)^$C18/(1+J17)^($C17)-1) -> 0.04390152 | T18: =IF($C18=1,K18,(1+K18)^$C18/(1+K17)^($C17)-1) -> 0.046807826 | U18: =IF($C18=1,L18,(1+L18)^$C18/(1+L17)^($C17)-1) -> 0.058516293 | W18: 11 | X18: =D18-'1.1 Risk free BASE'!D18 -> 0.02 | Y18: =E18-'1.1 Risk free BASE'!E18 -> 0.02 | Z18: =F18-'1.1 Risk free BASE'!F18 -> 0.019865368 | AA18: =G18-'1.1 Risk free BASE'!G18 -> 0.02 | AB18: =H18-'1.1 Risk free BASE'!H18 -> 0.02 | AC18: =I18-'1.1 Risk free BASE'!I18 -> 0.02 | AD18: =J18-'1.1 Risk free BASE'!J18 -> 0.02 | AE18: =K18-'1.1 Risk free BASE'!K18 -> 0.02 | ... AO18: =U18-'1.1 Risk free BASE'!U18 -> 0.019999947
C19: 12 | D19: 0.06428137 | E19: 0.073536518 | F19: 0.03880386 | G19: 0.047044546 | H19: 0.070931507 | I19: 0.053116693 | J19: 0.040303417 | K19: 0.044932283 | L19: 0.056399572 | M19: =IF($C19=1,D19,(1+D19)^$C19/(1+D18)^($C18)-1) -> 0.069214427 | N19: =IF($C19=1,E19,(1+E19)^$C19/(1+E18)^($C18)-1) -> 0.079428638 | O19: =IF($C19=1,F19,(1+F19)^$C19/(1+F18)^($C18)-1) -> 0.050580125 | P19: =IF($C19=1,G19,(1+G19)^$C19/(1+G18)^($C18)-1) -> 0.059470947 | Q19: =IF($C19=1,H19,(1+H19)^$C19/(1+H18)^($C18)-1) -> 0.076155557 | R19: =IF($C19=1,I19,(1+I19)^$C19/(1+I18)^($C18)-1) -> 0.063644091 | S19: =IF($C19=1,J19,(1+J19)^$C19/(1+J18)^($C18)-1) -> 0.046991158 | T19: =IF($C19=1,K19,(1+K19)^$C19/(1+K18)^($C18)-1) -> 0.046583144 | U19: =IF($C19=1,L19,(1+L19)^$C19/(1+L18)^($C18)-1) -> 0.058445793 | W19: 12 | X19: =D19-'1.1 Risk free BASE'!D19 -> 0.02 | Y19: =E19-'1.1 Risk free BASE'!E19 -> 0.02 | Z19: =F19-'1.1 Risk free BASE'!F19 -> 0.02 | AA19: =G19-'1.1 Risk free BASE'!G19 -> 0.02 | AB19: =H19-'1.1 Risk free BASE'!H19 -> 0.02 | AC19: =I19-'1.1 Risk free BASE'!I19 -> 0.02 | AD19: =J19-'1.1 Risk free BASE'!J19 -> 0.02 | AE19: =K19-'1.1 Risk free BASE'!K19 -> 0.02 | ... AO19: =U19-'1.1 Risk free BASE'!U19 -> 0.019999958
... C157: 150 | D157: 0.048643726 | E157: 0.053627962 | F157: 0.052079265 | G157: 0.05799535 | H157: 0.055351669 | I157: 0.049467779 | J157: 0.050091139 | K157: 0.043178713 | L157: 0.046414332 | M157: =IF($C157=1,D157,(1+D157)^$C157/(1+D156)^($C156)-1) -> 0.0418 | N157: =IF($C157=1,E157,(1+E157)^$C157/(1+E156)^($C156)-1) -> 0.0418 | O157: =IF($C157=1,F157,(1+F157)^$C157/(1+F156)^($C156)-1) -> 0.0506 | P157: =IF($C157=1,G157,(1+G157)^$C157/(1+G156)^($C156)-1) -> 0.055 | Q157: =IF($C157=1,H157,(1+H157)^$C157/(1+H156)^($C156)-1) -> 0.0418 | R157: =IF($C157=1,I157,(1+I157)^$C157/(1+I156)^($C156)-1) -> 0.0418 | S157: =IF($C157=1,J157,(1+J157)^$C157/(1+J156)^($C156)-1) -> 0.0484 | T157: =IF($C157=1,K157,(1+K157)^$C157/(1+K156)^($C156)-1) -> 0.0418 | U157: =IF($C157=1,L157,(1+L157)^$C157/(1+L156)^($C156)-1) -> 0.0418 | W157: 150 | X157: =D157-'1.1 Risk free BASE'!D157 -> 0.0097182425 | Y157: =E157-'1.1 Risk free BASE'!E157 -> 0.011774362 | Z157: =F157-'1.1 Risk free BASE'!F157 -> 0.0089423813 | AA157: =G157-'1.1 Risk free BASE'!G157 -> 0.010297935 | AB157: =H157-'1.1 Risk free BASE'!H157 -> 0.014399509 | AC157: =I157-'1.1 Risk free BASE'!I157 -> 0.010033845 | AD157: =J157-'1.1 Risk free BASE'!J157 -> 0.0086708127 | AE157: =K157-'1.1 Risk free BASE'!K157 -> 0.0074676891 | ... AO157: =U157-'1.1 Risk free BASE'!U157 -> 0.0038

Sheet 1.3 Risk free DOWN
W4: Shock Levels
D5: ='1.2 Risk free UP'!D5 -> 46295 | E5: =D5 -> 46295 | F5: =E5 -> 46295 | G5: =F5 -> 46295 | H5: =G5 -> 46295 | I5: =H5 -> 46295 | J5: =I5 -> 46295 | K5: =J5 -> 46295 | L5: =K5 -> 46295 | ... U5: =T5 -> 46295 | X5: =D5 -> 46295 | Y5: =E5 -> 46295 | Z5: =F5 -> 46295 | AA5: =G5 -> 46295 | AB5: =H5 -> 46295 | AC5: =I5 -> 46295 | AD5: =J5 -> 46295 | AE5: =K5 -> 46295 | ... AO5: =U5 -> 46295
D6: Spot | E6: Spot | F6: Spot | G6: Spot | H6: Spot | I6: Spot | J6: Spot | K6: Spot | L6: Spot | M6: Forward | N6: Forward | O6: Forward | P6: Forward | Q6: Forward | R6: Forward | S6: Forward | T6: Forward | U6: Forward | X6: Spot | Y6: Spot | Z6: Spot | AA6: Spot | AB6: Spot | AC6: Spot | AD6: Spot | AE6: Spot | AF6: Spot | AG6: Forward | AH6: Forward | AI6: Forward | AJ6: Forward | AK6: Forward | AL6: Forward | AM6: Forward | AN6: Forward | AO6: Forward
C7: Term | D7: HKD | E7: USD | F7: RMB | G7: THB | H7: GBP | I7: JPY | J7: TWD | K7: SGD | L7: EUR | M7: HKD | N7: USD | O7: RMB | P7: THB | Q7: GBP | R7: JPY | S7: TWD | T7: SGD | U7: EUR | W7: Term | X7: HKD | Y7: USD | Z7: RMB | AA7: THB | AB7: GBP | AC7: JPY | AD7: TWD | AE7: SGD | AF7: EUR | AG7: HKD | AH7: USD | AI7: RMB | AJ7: THB | AK7: GBP | AL7: JPY | AM7: TWD | AN7: SGD | AO7: EUR
C8: 1 | D8: 0.0186626 | E8: 0.02491 | F8: 0.0029964389 | G8: 0.0029366428 | H8: 0.024205263 | I8: 0.0041174318 | J8: 0.0044638021 | K8: 0.0043508184 | L8: 0.012727 | M8: =IF($C8=1,D8,(1+D8)^$C8/(1+D7)^($C7)-1) -> 0.0186626 | N8: =IF($C8=1,E8,(1+E8)^$C8/(1+E7)^($C7)-1) -> 0.02491 | O8: =IF($C8=1,F8,(1+F8)^$C8/(1+F7)^($C7)-1) -> 0.0029964389 | P8: =IF($C8=1,G8,(1+G8)^$C8/(1+G7)^($C7)-1) -> 0.0029366428 | Q8: =IF($C8=1,H8,(1+H8)^$C8/(1+H7)^($C7)-1) -> 0.024205263 | R8: =IF($C8=1,I8,(1+I8)^$C8/(1+I7)^($C7)-1) -> 0.0041174318 | S8: =IF($C8=1,J8,(1+J8)^$C8/(1+J7)^($C7)-1) -> 0.0044638021 | T8: =IF($C8=1,K8,(1+K8)^$C8/(1+K7)^($C7)-1) -> 0.0043508184 | U8: =IF($C8=1,L8,(1+L8)^$C8/(1+L7)^($C7)-1) -> 0.012727 | W8: 1 | X8: =D8-'1.1 Risk free BASE'!D8 -> -0.02 | Y8: =E8-'1.1 Risk free BASE'!E8 -> -0.02 | Z8: =F8-'1.1 Risk free BASE'!F8 -> -0.0092005611 | AA8: =G8-'1.1 Risk free BASE'!G8 -> -0.0090169572 | AB8: =H8-'1.1 Risk free BASE'!H8 -> -0.02 | AC8: =I8-'1.1 Risk free BASE'!I8 -> -0.012642568 | AD8: =J8-'1.1 Risk free BASE'!J8 -> -0.013706098 | AE8: =K8-'1.1 Risk free BASE'!K8 -> -0.013359182 | ... AO8: =U8-'1.1 Risk free BASE'!U8 -> -0.02
C9: 2 | D9: 0.021699708 | E9: 0.02832 | F9: 0.0043207689 | G9: 0.0046712601 | H9: 0.026656233 | I9: 0.0065998483 | J9: 0.0061936251 | K9: 0.006831781 | L9: 0.014437477 | M9: =IF($C9=1,D9,(1+D9)^$C9/(1+D8)^($C8)-1) -> 0.02474587 | N9: =IF($C9=1,E9,(1+E9)^$C9/(1+E8)^($C8)-1) -> 0.031741345 | O9: =IF($C9=1,F9,(1+F9)^$C9/(1+F8)^($C8)-1) -> 0.0056468476 | P9: =IF($C9=1,G9,(1+G9)^$C9/(1+G8)^($C8)-1) -> 0.0064088775 | Q9: =IF($C9=1,H9,(1+H9)^$C9/(1+H8)^($C8)-1) -> 0.029113069 | R9: =IF($C9=1,I9,(1+I9)^$C9/(1+I8)^($C8)-1) -> 0.009088402 | S9: =IF($C9=1,J9,(1+J9)^$C9/(1+J8)^($C8)-1) -> 0.007926427 | T9: =IF($C9=1,K9,(1+K9)^$C9/(1+K8)^($C8)-1) -> 0.009318872 | U9: =IF($C9=1,L9,(1+L9)^$C9/(1+L8)^($C8)-1) -> 0.016150843 | W9: 2 | X9: =D9-'1.1 Risk free BASE'!D9 -> -0.02 | Y9: =E9-'1.1 Risk free BASE'!E9 -> -0.02 | Z9: =F9-'1.1 Risk free BASE'!F9 -> -0.0083472311 | AA9: =G9-'1.1 Risk free BASE'!G9 -> -0.0090243399 | AB9: =H9-'1.1 Risk free BASE'!H9 -> -0.02 | AC9: =I9-'1.1 Risk free BASE'!I9 -> -0.012750152 | AD9: =J9-'1.1 Risk free BASE'!J9 -> -0.011965375 | AE9: =K9-'1.1 Risk free BASE'!K9 -> -0.013198219 | ... AO9: =U9-'1.1 Risk free BASE'!U9 -> -0.019999944
C10: 3 | D10: 0.022420459 | E10: 0.02947 | F10: 0.004562891 | G10: 0.0054260435 | H10: 0.027247003 | I10: 0.0073302311 | J10: 0.0064702811 | K10: 0.0075757583 | L10: 0.01478154 | M10: =IF($C10=1,D10,(1+D10)^$C10/(1+D9)^($C9)-1) -> 0.023863487 | N10: =IF($C10=1,E10,(1+E10)^$C10/(1+E9)^($C9)-1) -> 0.03177386 | O10: =IF($C10=1,F10,(1+F10)^$C10/(1+F9)^($C9)-1) -> 0.0050473102 | P10: =IF($C10=1,G10,(1+G10)^$C10/(1+G9)^($C9)-1) -> 0.0069373118 | Q10: =IF($C10=1,H10,(1+H10)^$C10/(1+H9)^($C9)-1) -> 0.028429564 | R10: =IF($C10=1,I10,(1+I10)^$C10/(1+I9)^($C9)-1) -> 0.008792587 | S10: =IF($C10=1,J10,(1+J10)^$C10/(1+J9)^($C9)-1) -> 0.0070238215 | T10: =IF($C10=1,K10,(1+K10)^$C10/(1+K9)^($C9)-1) -> 0.0090653626 | U10: =IF($C10=1,L10,(1+L10)^$C10/(1+L9)^($C9)-1) -> 0.015470016 | W10: 3 | X10: =D10-'1.1 Risk free BASE'!D10 -> -0.02 | Y10: =E10-'1.1 Risk free BASE'!E10 -> -0.02 | Z10: =F10-'1.1 Risk free BASE'!F10 -> -0.008260109 | AA10: =G10-'1.1 Risk free BASE'!G10 -> -0.0098226565 | AB10: =H10-'1.1 Risk free BASE'!H10 -> -0.02 | AC10: =I10-'1.1 Risk free BASE'!I10 -> -0.013269769 | AD10: =J10-'1.1 Risk free BASE'!J10 -> -0.011713019 | AE10: =K10-'1.1 Risk free BASE'!K10 -> -0.013714242 | ... AO10: =U10-'1.1 Risk free BASE'!U10 -> -0.019999993
C11: 4 | D11: 0.022416894 | E11: 0.03005 | F11: 0.0049169275 | G11: 0.0061247471 | H11: 0.027459893 | I11: 0.0082749993 | J11: 0.0067363999 | K11: 0.008043813 | L11: 0.01489701 | M11: =IF($C11=1,D11,(1+D11)^$C11/(1+D10)^($C10)-1) -> 0.022406199 | N11: =IF($C11=1,E11,(1+E11)^$C11/(1+E10)^($C10)-1) -> 0.031791961 | O11: =IF($C11=1,F11,(1+F11)^$C11/(1+F10)^($C10)-1) -> 0.005979786 | P11: =IF($C11=1,G11,(1+G11)^$C11/(1+G10)^($C10)-1) -> 0.0082237728 | Q11: =IF($C11=1,H11,(1+H11)^$C11/(1+H10)^($C10)-1) -> 0.028098827 | R11: =IF($C11=1,I11,(1+I11)^$C11/(1+I10)^($C10)-1) -> 0.011114624 | S11: =IF($C11=1,J11,(1+J11)^$C11/(1+J10)^($C10)-1) -> 0.0075351782 | T11: =IF($C11=1,K11,(1+K11)^$C11/(1+K10)^($C10)-1) -> 0.0094492823 | U11: =IF($C11=1,L11,(1+L11)^$C11/(1+L10)^($C10)-1) -> 0.015243499 | W11: 4 | X11: =D11-'1.1 Risk free BASE'!D11 -> -0.02 | Y11: =E11-'1.1 Risk free BASE'!E11 -> -0.02 | Z11: =F11-'1.1 Risk free BASE'!F11 -> -0.0084820725 | AA11: =G11-'1.1 Risk free BASE'!G11 -> -0.010565653 | AB11: =H11-'1.1 Risk free BASE'!H11 -> -0.02 | AC11: =I11-'1.1 Risk free BASE'!I11 -> -0.014275001 | AD11: =J11-'1.1 Risk free BASE'!J11 -> -0.0116208 | AE11: =K11-'1.1 Risk free BASE'!K11 -> -0.013876187 | ... AO11: =U11-'1.1 Risk free BASE'!U11 -> -0.019999998
C12: 5 | D12: 0.022500838 | E12: 0.03034 | F12: 0.0054637028 | G12: 0.0070037761 | H12: 0.02767414 | I12: 0.0092499564 | J12: 0.0072098594 | K12: 0.008681264 | L12: 0.014990819 | M12: =IF($C12=1,D12,(1+D12)^$C12/(1+D11)^($C11)-1) -> 0.022836684 | N12: =IF($C12=1,E12,(1+E12)^$C12/(1+E11)^($C11)-1) -> 0.031500817 | O12: =IF($C12=1,F12,(1+F12)^$C12/(1+F11)^($C11)-1) -> 0.0076537807 | P12: =IF($C12=1,G12,(1+G12)^$C12/(1+G11)^($C11)-1) -> 0.010527578 | Q12: =IF($C12=1,H12,(1+H12)^$C12/(1+H11)^($C11)-1) -> 0.028531573 | R12: =IF($C12=1,I12,(1+I12)^$C12/(1+I11)^($C11)-1) -> 0.013159222 | S12: =IF($C12=1,J12,(1+J12)^$C12/(1+J11)^($C11)-1) -> 0.0091059252 | T12: =IF($C12=1,K12,(1+K12)^$C12/(1+K11)^($C11)-1) -> 0.011235101 | U12: =IF($C12=1,L12,(1+L12)^$C12/(1+L11)^($C11)-1) -> 0.015366141 | W12: 5 | X12: =D12-'1.1 Risk free BASE'!D12 -> -0.02 | Y12: =E12-'1.1 Risk free BASE'!E12 -> -0.02 | Z12: =F12-'1.1 Risk free BASE'!F12 -> -0.0086592972 | AA12: =G12-'1.1 Risk free BASE'!G12 -> -0.011100124 | AB12: =H12-'1.1 Risk free BASE'!H12 -> -0.02 | AC12: =I12-'1.1 Risk free BASE'!I12 -> -0.014660044 | AD12: =J12-'1.1 Risk free BASE'!J12 -> -0.011426741 | AE12: =K12-'1.1 Risk free BASE'!K12 -> -0.013758736 | ... AO12: =U12-'1.1 Risk free BASE'!U12 -> -0.019999998
C13: 6 | D13: 0.022623815 | E13: 0.03095 | F13: 0.006040547 | G13: 0.0080322793 | H13: 0.027987949 | I13: 0.010268106 | J13: 0.0077636686 | K13: 0.0095429105 | L13: 0.015128849 | M13: =IF($C13=1,D13,(1+D13)^$C13/(1+D12)^($C12)-1) -> 0.023238924 | N13: =IF($C13=1,E13,(1+E13)^$C13/(1+E12)^($C12)-1) -> 0.034005421 | O13: =IF($C13=1,F13,(1+F13)^$C13/(1+F12)^($C12)-1) -> 0.0089297357 | P13: =IF($C13=1,G13,(1+G13)^$C13/(1+G12)^($C12)-1) -> 0.013190574 | Q13: =IF($C13=1,H13,(1+H13)^$C13/(1+H12)^($C12)-1) -> 0.029558431 | R13: =IF($C13=1,I13,(1+I13)^$C13/(1+I12)^($C12)-1) -> 0.01537428 | S13: =IF($C13=1,J13,(1+J13)^$C13/(1+J12)^($C12)-1) -> 0.010537286 | T13: =IF($C13=1,K13,(1+K13)^$C13/(1+K12)^($C12)-1) -> 0.013862196 | U13: =IF($C13=1,L13,(1+L13)^$C13/(1+L12)^($C12)-1) -> 0.015819279 | W13: 6 | X13: =D13-'1.1 Risk free BASE'!D13 -> -0.02 | Y13: =E13-'1.1 Risk free BASE'!E13 -> -0.02 | Z13: =F13-'1.1 Risk free BASE'!F13 -> -0.008619453 | AA13: =G13-'1.1 Risk free BASE'!G13 -> -0.011461521 | AB13: =H13-'1.1 Risk free BASE'!H13 -> -0.02 | AC13: =I13-'1.1 Risk free BASE'!I13 -> -0.014651894 | AD13: =J13-'1.1 Risk free BASE'!J13 -> -0.011078231 | AE13: =K13-'1.1 Risk free BASE'!K13 -> -0.013617089 | ... AO13: =U13-'1.1 Risk free BASE'!U13 -> -0.019999995
C14: 7 | D14: 0.022726693 | E14: 0.03142 | F14: 0.0065469593 | G14: 0.0090118137 | H14: 0.028399016 | I14: 0.011335343 | J14: 0.0081860084 | K14: 0.010213032 | L14: 0.015298246 | M14: =IF($C14=1,D14,(1+D14)^$C14/(1+D13)^($C13)-1) -> 0.023344177 | N14: =IF($C14=1,E14,(1+E14)^$C14/(1+E13)^($C13)-1) -> 0.034244503 | O14: =IF($C14=1,F14,(1+F14)^$C14/(1+F13)^($C13)-1) -> 0.0095907906 | P14: =IF($C14=1,G14,(1+G14)^$C14/(1+G13)^($C13)-1) -> 0.014909041 | Q14: =IF($C14=1,H14,(1+H14)^$C14/(1+H13)^($C13)-1) -> 0.030868871 | R14: =IF($C14=1,I14,(1+I14)^$C14/(1+I13)^($C13)-1) -> 0.017762485 | S14: =IF($C14=1,J14,(1+J14)^$C14/(1+J13)^($C13)-1) -> 0.010723767 | T14: =IF($C14=1,K14,(1+K14)^$C14/(1+K13)^($C13)-1) -> 0.014243112 | U14: =IF($C14=1,L14,(1+L14)^$C14/(1+L13)^($C13)-1) -> 0.016315226 | W14: 7 | X14: =D14-'1.1 Risk free BASE'!D14 -> -0.02 | Y14: =E14-'1.1 Risk free BASE'!E14 -> -0.02 | Z14: =F14-'1.1 Risk free BASE'!F14 -> -0.0086200407 | AA14: =G14-'1.1 Risk free BASE'!G14 -> -0.011865386 | AB14: =H14-'1.1 Risk free BASE'!H14 -> -0.02 | AC14: =I14-'1.1 Risk free BASE'!I14 -> -0.014924657 | AD14: =J14-'1.1 Risk free BASE'!J14 -> -0.010778092 | AE14: =K14-'1.1 Risk free BASE'!K14 -> -0.013446968 | ... AO14: =U14-'1.1 Risk free BASE'!U14 -> -0.019999989
C15: 8 | D15: 0.02281554 | E15: 0.03197 | F15: 0.0070624793 | G15: 0.0099612868 | H15: 0.02889265 | I15: 0.012446062 | J15: 0.0085064824 | K15: 0.010778819 | L15: 0.015904515 | M15: =IF($C15=1,D15,(1+D15)^$C15/(1+D14)^($C14)-1) -> 0.023437688 | N15: =IF($C15=1,E15,(1+E15)^$C15/(1+E14)^($C14)-1) -> 0.035828221 | O15: =IF($C15=1,F15,(1+F15)^$C15/(1+F14)^($C14)-1) -> 0.01067852 | P15: =IF($C15=1,G15,(1+G15)^$C15/(1+G14)^($C14)-1) -> 0.016632663 | Q15: =IF($C15=1,H15,(1+H15)^$C15/(1+H14)^($C14)-1) -> 0.032354729 | R15: =IF($C15=1,I15,(1+I15)^$C15/(1+I14)^($C14)-1) -> 0.020255327 | S15: =IF($C15=1,J15,(1+J15)^$C15/(1+J14)^($C14)-1) -> 0.010752654 | T15: =IF($C15=1,K15,(1+K15)^$C15/(1+K14)^($C14)-1) -> 0.014748209 | U15: =IF($C15=1,L15,(1+L15)^$C15/(1+L14)^($C14)-1) -> 0.020158543 | W15: 8 | X15: =D15-'1.1 Risk free BASE'!D15 -> -0.02 | Y15: =E15-'1.1 Risk free BASE'!E15 -> -0.02 | Z15: =F15-'1.1 Risk free BASE'!F15 -> -0.0086955207 | AA15: =G15-'1.1 Risk free BASE'!G15 -> -0.012264613 | AB15: =H15-'1.1 Risk free BASE'!H15 -> -0.02 | AC15: =I15-'1.1 Risk free BASE'!I15 -> -0.015323938 | AD15: =J15-'1.1 Risk free BASE'!J15 -> -0.010473418 | AE15: =K15-'1.1 Risk free BASE'!K15 -> -0.013271181 | ... AO15: =U15-'1.1 Risk free BASE'!U15 -> -0.016647456
C16: 9 | D16: 0.022989423 | E16: 0.0323 | F16: 0.0075681111 | G16: 0.010847334 | H16: 0.029404941 | I16: 0.013507402 | J16: 0.0088064203 | K16: 0.011224656 | L16: 0.016469142 | M16: =IF($C16=1,D16,(1+D16)^$C16/(1+D15)^($C15)-1) -> 0.024381548 | N16: =IF($C16=1,E16,(1+E16)^$C16/(1+E15)^($C15)-1) -> 0.034943802 | O16: =IF($C16=1,F16,(1+F16)^$C16/(1+F15)^($C15)-1) -> 0.011622316 | P16: =IF($C16=1,G16,(1+G16)^$C16/(1+G15)^($C15)-1) -> 0.017963752 | Q16: =IF($C16=1,H16,(1+H16)^$C16/(1+H15)^($C15)-1) -> 0.033512463 | R16: =IF($C16=1,I16,(1+I16)^$C16/(1+I15)^($C15)-1) -> 0.022038272 | S16: =IF($C16=1,J16,(1+J16)^$C16/(1+J15)^($C15)-1) -> 0.011209137 | T16: =IF($C16=1,K16,(1+K16)^$C16/(1+K15)^($C15)-1) -> 0.014798438 | U16: =IF($C16=1,L16,(1+L16)^$C16/(1+L15)^($C15)-1) -> 0.020997468 | W16: 9 | X16: =D16-'1.1 Risk free BASE'!D16 -> -0.02 | Y16: =E16-'1.1 Risk free BASE'!E16 -> -0.02 | Z16: =F16-'1.1 Risk free BASE'!F16 -> -0.0088428889 | AA16: =G16-'1.1 Risk free BASE'!G16 -> -0.012674466 | AB16: =H16-'1.1 Risk free BASE'!H16 -> -0.02 | AC16: =I16-'1.1 Risk free BASE'!I16 -> -0.015782598 | AD16: =J16-'1.1 Risk free BASE'!J16 -> -0.01028978 | AE16: =K16-'1.1 Risk free BASE'!K16 -> -0.013115344 | ... AO16: =U16-'1.1 Risk free BASE'!U16 -> -0.016522749
C17: 10 | D17: 0.023330294 | E17: 0.03258 | F17: 0.0080505617 | G17: 0.011675013 | H17: 0.029947662 | I17: 0.014582915 | J17: 0.0090951438 | K17: 0.011596508 | L17: 0.01697665 | M17: =IF($C17=1,D17,(1+D17)^$C17/(1+D16)^($C16)-1) -> 0.026403252 | N17: =IF($C17=1,E17,(1+E17)^$C17/(1+E16)^($C16)-1) -> 0.03510342 | O17: =IF($C17=1,F17,(1+F17)^$C17/(1+F16)^($C16)-1) -> 0.012403025 | P17: =IF($C17=1,G17,(1+G17)^$C17/(1+G16)^($C16)-1) -> 0.019154687 | Q17: =IF($C17=1,H17,(1+H17)^$C17/(1+H16)^($C16)-1) -> 0.03484505 | R17: =IF($C17=1,I17,(1+I17)^$C17/(1+I16)^($C16)-1) -> 0.024314036 | S17: =IF($C17=1,J17,(1+J17)^$C17/(1+J16)^($C16)-1) -> 0.011697376 | T17: =IF($C17=1,K17,(1+K17)^$C17/(1+K16)^($C16)-1) -> 0.014949334 | U17: =IF($C17=1,L17,(1+L17)^$C17/(1+L16)^($C16)-1) -> 0.021555641 | W17: 10 | X17: =D17-'1.1 Risk free BASE'!D17 -> -0.02 | Y17: =E17-'1.1 Risk free BASE'!E17 -> -0.02 | Z17: =F17-'1.1 Risk free BASE'!F17 -> -0.0090134383 | AA17: =G17-'1.1 Risk free BASE'!G17 -> -0.013071387 | AB17: =H17-'1.1 Risk free BASE'!H17 -> -0.02 | AC17: =I17-'1.1 Risk free BASE'!I17 -> -0.016327085 | AD17: =J17-'1.1 Risk free BASE'!J17 -> -0.010182956 | AE17: =K17-'1.1 Risk free BASE'!K17 -> -0.012983492 | ... AO17: =U17-'1.1 Risk free BASE'!U17 -> -0.016874043
C18: 11 | D18: 0.023834041 | E18: 0.033002468 | F18: 0.0085396483 | G18: 0.012390827 | H18: 0.030457853 | I18: 0.015374004 | J18: 0.0094166691 | K18: 0.011861947 | L18: 0.017348901 | M18: =IF($C18=1,D18,(1+D18)^$C18/(1+D17)^($C17)-1) -> 0.028885165 | N18: =IF($C18=1,E18,(1+E18)^$C18/(1+E17)^($C17)-1) -> 0.03723667 | O18: =IF($C18=1,F18,(1+F18)^$C18/(1+F17)^($C17)-1) -> 0.013443585 | P18: =IF($C18=1,G18,(1+G18)^$C18/(1+G17)^($C17)-1) -> 0.019576889 | Q18: =IF($C18=1,H18,(1+H18)^$C18/(1+H17)^($C17)-1) -> 0.035573684 | R18: =IF($C18=1,I18,(1+I18)^$C18/(1+I17)^($C17)-1) -> 0.023318902 | S18: =IF($C18=1,J18,(1+J18)^$C18/(1+J17)^($C17)-1) -> 0.012637563 | T18: =IF($C18=1,K18,(1+K18)^$C18/(1+K17)^($C17)-1) -> 0.014520172 | U18: =IF($C18=1,L18,(1+L18)^$C18/(1+L17)^($C17)-1) -> 0.021078921 | W18: 11 | X18: =D18-'1.1 Risk free BASE'!D18 -> -0.02 | Y18: =E18-'1.1 Risk free BASE'!E18 -> -0.02 | Z18: =F18-'1.1 Risk free BASE'!F18 -> -0.009334842 | AA18: =G18-'1.1 Risk free BASE'!G18 -> -0.013531298 | AB18: =H18-'1.1 Risk free BASE'!H18 -> -0.02 | AC18: =I18-'1.1 Risk free BASE'!I18 -> -0.016790835 | AD18: =J18-'1.1 Risk free BASE'!J18 -> -0.010280894 | AE18: =K18-'1.1 Risk free BASE'!K18 -> -0.012920387 | ... AO18: =U18-'1.1 Risk free BASE'!U18 -> -0.017437425
C19: 12 | D19: 0.02428137 | E19: 0.033536518 | F19: 0.0090639764 | G19: 0.013050868 | H19: 0.030931507 | I19: 0.015980696 | J19: 0.0097974684 | K19: 0.012062237 | L19: 0.017639064 | M19: =IF($C19=1,D19,(1+D19)^$C19/(1+D18)^($C18)-1) -> 0.029214913 | N19: =IF($C19=1,E19,(1+E19)^$C19/(1+E18)^($C18)-1) -> 0.03942932 | O19: =IF($C19=1,F19,(1+F19)^$C19/(1+F18)^($C18)-1) -> 0.014849607 | P19: =IF($C19=1,G19,(1+G19)^$C19/(1+G18)^($C18)-1) -> 0.020339777 | Q19: =IF($C19=1,H19,(1+H19)^$C19/(1+H18)^($C18)-1) -> 0.036156095 | R19: =IF($C19=1,I19,(1+I19)^$C19/(1+I18)^($C18)-1) -> 0.022678277 | S19: =IF($C19=1,J19,(1+J19)^$C19/(1+J18)^($C18)-1) -> 0.013995753 | T19: =IF($C19=1,K19,(1+K19)^$C19/(1+K18)^($C18)-1) -> 0.014268046 | U19: =IF($C19=1,L19,(1+L19)^$C19/(1+L18)^($C18)-1) -> 0.020836316 | W19: 12 | X19: =D19-'1.1 Risk free BASE'!D19 -> -0.02 | Y19: =E19-'1.1 Risk free BASE'!E19 -> -0.02 | Z19: =F19-'1.1 Risk free BASE'!F19 -> -0.009739884 | AA19: =G19-'1.1 Risk free BASE'!G19 -> -0.013993678 | AB19: =H19-'1.1 Risk free BASE'!H19 -> -0.02 | AC19: =I19-'1.1 Risk free BASE'!I19 -> -0.017135997 | AD19: =J19-'1.1 Risk free BASE'!J19 -> -0.010505949 | AE19: =K19-'1.1 Risk free BASE'!K19 -> -0.012870046 | ... AO19: =U19-'1.1 Risk free BASE'!U19 -> -0.017609519
... C157: 150 | D157: 0.032027995 | E157: 0.033707905 | F157: 0.036492819 | G157: 0.040136023 | H157: 0.031547944 | I157: 0.032306868 | J157: 0.034997163 | K157: 0.030188239 | L157: 0.031277069 | M157: =IF($C157=1,D157,(1+D157)^$C157/(1+D156)^($C156)-1) -> 0.0342 | N157: =IF($C157=1,E157,(1+E157)^$C157/(1+E156)^($C156)-1) -> 0.0342 | O157: =IF($C157=1,F157,(1+F157)^$C157/(1+F156)^($C156)-1) -> 0.0414 | P157: =IF($C157=1,G157,(1+G157)^$C157/(1+G156)^($C156)-1) -> 0.045 | Q157: =IF($C157=1,H157,(1+H157)^$C157/(1+H156)^($C156)-1) -> 0.0342 | R157: =IF($C157=1,I157,(1+I157)^$C157/(1+I156)^($C156)-1) -> 0.0342 | S157: =IF($C157=1,J157,(1+J157)^$C157/(1+J156)^($C156)-1) -> 0.0396 | T157: =IF($C157=1,K157,(1+K157)^$C157/(1+K156)^($C156)-1) -> 0.0342 | U157: =IF($C157=1,L157,(1+L157)^$C157/(1+L156)^($C156)-1) -> 0.0342 | W157: 150 | X157: =D157-'1.1 Risk free BASE'!D157 -> -0.0068974885 | Y157: =E157-'1.1 Risk free BASE'!E157 -> -0.0081456944 | Z157: =F157-'1.1 Risk free BASE'!F157 -> -0.0066440639 | AA157: =G157-'1.1 Risk free BASE'!G157 -> -0.0075613918 | AB157: =H157-'1.1 Risk free BASE'!H157 -> -0.0094042154 | AC157: =I157-'1.1 Risk free BASE'!I157 -> -0.0071270669 | AD157: =J157-'1.1 Risk free BASE'!J157 -> -0.0064231638 | AE157: =K157-'1.1 Risk free BASE'!K157 -> -0.0055227843 | ... AO157: =U157-'1.1 Risk free BASE'!U157 -> -0.0038
